BEGIN:VCALENDAR
PRODID:-//eluceo/ical//2.0/EN
VERSION:2.0
CALSCALE:GREGORIAN
BEGIN:VEVENT
UID:85c13a633b768b845fe307a365c3796e
DTSTAMP:20260421T152626Z
SUMMARY:Women's Joint Opening Brunch
DESCRIPTION:Jewish Family Services of Greensboro\nJewish Family Services of
  Greensboro Calendar:\nhttps://jfsgreensboro.org/jewish-family-services-of
 -greensboro-calendar/womens-joint-opening-brunch-august28-407000\n\nEnjoy 
 a little “Me Time” with friends at the\nWomen's Joint Opening Brunch\n
 Sunday\, August 28 • 11 a.m. • Beth David Synagogue\n\nFeaturing:\n
 • Honoring Volunteers of the Year \n• Presentation by Dr. Leah Katz:
  You’re Already Holding the Key: Mindfulness\, Bravery\, and Unlocking 
 the Door to a More Meaningful Life\n• Brunch \n\nThe Women's Joint Ope
 ning Brunch is a Joint collaboration of Beth David Sisterhood\, Temple Em
 anuel Sisterhood\, Greensboro-Winston Salem Hadassah\, ...
DTSTART;TZID=America/New_York:20220828T110000
DTEND;TZID=America/New_York:20220828T130000
END:VEVENT
END:VCALENDAR
