BEGIN:VCALENDAR
PRODID:-//eluceo/ical//2.0/EN
VERSION:2.0
CALSCALE:GREGORIAN
BEGIN:VEVENT
UID:ae0886b438d11d1c1fd02c5f6808e38b
DTSTAMP:20260424T010025Z
SUMMARY:JFS Nourish: A Mindful Evening for Women
DESCRIPTION:Jewish Family Services of Greensboro\nJewish Family Services of
  Greensboro Calendar:\nhttps://jfsgreensboro.org/jewish-family-services-of
 -greensboro-calendar/nourish-a-mindful-day-for-women-1767367584-507989\n\n
  
DTSTART;TZID=America/New_York:20260517T180000
DTEND;TZID=America/New_York:20260517T210000
END:VEVENT
END:VCALENDAR
