BEGIN:VCALENDAR
PRODID:-//eluceo/ical//2.0/EN
VERSION:2.0
CALSCALE:GREGORIAN
BEGIN:VEVENT
UID:9ed6ae0264d4336cb8d72d422f62fdf8
DTSTAMP:20260423T232345Z
SUMMARY:JFS Care Fair
DESCRIPTION:Jewish Family Services of Greensboro\nJewish Family Services of
  Greensboro Calendar:\nhttps://jfsgreensboro.org/jewish-family-services-of
 -greensboro-calendar/jfs-care-fair-1776706178-515021\n\n 
DTSTART;TZID=America/New_York:20260623T110000
DTEND;TZID=America/New_York:20260623T130000
END:VEVENT
END:VCALENDAR
