BEGIN:VCALENDAR
PRODID:-//eluceo/ical//2.0/EN
VERSION:2.0
CALSCALE:GREGORIAN
BEGIN:VEVENT
UID:19d4b28cd77e94996537e85582bb2a00
DTSTAMP:20260421T184929Z
SUMMARY:JFS Inaugural Book Swap
DESCRIPTION:Jewish Family Services of Greensboro\nJewish Family Services of
  Greensboro Calendar:\nhttps://jfsgreensboro.org/jewish-family-services-of
 -greensboro-calendar/jfs-book-swap-462915\n\nJFS and Beth David Sisterhood
  are hosting an\nInaugural Book Swap\nSunday\, June 30 from 1-3 p.m. \nat
  the Federation Building\n\n \n\nThere will be books for taking home\, ch
 ildren’s storytelling and refreshments.  \n\nCome stock up on a few bo
 oks for the summer.
DTSTART;TZID=America/New_York:20240630T130000
DTEND;TZID=America/New_York:20240630T150000
END:VEVENT
END:VCALENDAR
