BEGIN:VCALENDAR
PRODID:-//eluceo/ical//2.0/EN
VERSION:2.0
CALSCALE:GREGORIAN
BEGIN:VEVENT
UID:9943d5b180a0848089f07a4f6e801620
DTSTAMP:20260422T005608Z
SUMMARY:JFS - Chanukah Cards for Seniors
DESCRIPTION:Jewish Family Services of Greensboro\nJewish Family Services of
  Greensboro Calendar:\nhttps://jfsgreensboro.org/jewish-family-services-of
 -greensboro-calendar/channukah-cards-for-seniors-1760375495-502877\n\nJoin
  JFS for a Chanukah Card\n& Envelope Party!\n\nWednesday\, December 3 at 
 3 - 4 p.m.\nJewish Family Services\n\nLet’s come together to share some
  light this season. We’ll be addressing envelopes and signing cards that
  will be delivered to local seniors\, helping to bring warmth and connecti
 on during the holidays.\n\nCome enjoy a snack\, good company\, and the sim
 ple joy of doing something kind for others.\n\nRegister Now\n\n 
DTSTART;TZID=America/New_York:20251203T150000
DTEND;TZID=America/New_York:20251203T160000
END:VEVENT
END:VCALENDAR
