BEGIN:VCALENDAR
PRODID:-//eluceo/ical//2.0/EN
VERSION:2.0
CALSCALE:GREGORIAN
BEGIN:VEVENT
UID:fce897739f71f95771c12e507f17416b
DTSTAMP:20260421T194153Z
SUMMARY:JFS Brain Games & Neuroplasticity
DESCRIPTION:Jewish Family Services of Greensboro\nJewish Family Services of
  Greensboro Calendar:\nhttps://jfsgreensboro.org/jewish-family-services-of
 -greensboro-calendar/brain-games--neuroplasticity-1758812396-501266\n\nBra
 in Games & Neuroplasticity with Jane Tastet\, MA\, LCMHCA\nThursday\, Nove
 mber 13 at 2 p.m.\nat Jewish Family Services\n\nGet ready to give your bra
 in a workout—while having fun! \n\nJoin Licensed Clinical Mental Health 
 Counselor Associate Jane Tastet as she leads us through interactive games 
 and activities designed to boost brain health and improve neuroplasticity.
  Together\, we’ll explore ways to strengthen memory\, sharpen focus\, an
 d keep our minds active at every age.\n\nThis upbeat\, ha...
DTSTART;TZID=America/New_York:20251113T140000
DTEND;TZID=America/New_York:20251113T150000
END:VEVENT
END:VCALENDAR
