BEGIN:VCALENDAR
PRODID:-//eluceo/ical//2.0/EN
VERSION:2.0
CALSCALE:GREGORIAN
BEGIN:VEVENT
UID:3cc8367bb9fca55ded3655e948c38904
DTSTAMP:20260423T231814Z
SUMMARY:Aging & Adult Services Agency Fair-World Elder Abuse Awareness Day
DESCRIPTION:Jewish Family Services of Greensboro\nJewish Family Services of
  Greensboro Calendar:\nhttps://jfsgreensboro.org/jewish-family-services-of
 -greensboro-calendar/aging--adult-services-agency-fair-world-elder-abuse-a
 wareness-day-1776274358-514544\n\n 
DTSTART;TZID=America/New_York:20260625T110000
DTEND;TZID=America/New_York:20260625T140000
END:VEVENT
END:VCALENDAR
